BEGIN:VCALENDAR
VERSION:2.0
PRODID:-//Foto-Club Koblenz - ECPv6.15.20//NONSGML v1.0//EN
CALSCALE:GREGORIAN
METHOD:PUBLISH
X-ORIGINAL-URL:https://foto-club-koblenz.com
X-WR-CALDESC:Veranstaltungen für Foto-Club Koblenz
REFRESH-INTERVAL;VALUE=DURATION:PT1H
X-Robots-Tag:noindex
X-PUBLISHED-TTL:PT1H
BEGIN:VTIMEZONE
TZID:Europe/Berlin
BEGIN:DAYLIGHT
TZOFFSETFROM:+0100
TZOFFSETTO:+0200
TZNAME:CEST
DTSTART:20250330T010000
END:DAYLIGHT
BEGIN:STANDARD
TZOFFSETFROM:+0200
TZOFFSETTO:+0100
TZNAME:CET
DTSTART:20251026T010000
END:STANDARD
BEGIN:DAYLIGHT
TZOFFSETFROM:+0100
TZOFFSETTO:+0200
TZNAME:CEST
DTSTART:20260329T010000
END:DAYLIGHT
BEGIN:STANDARD
TZOFFSETFROM:+0200
TZOFFSETTO:+0100
TZNAME:CET
DTSTART:20261025T010000
END:STANDARD
BEGIN:DAYLIGHT
TZOFFSETFROM:+0100
TZOFFSETTO:+0200
TZNAME:CEST
DTSTART:20270328T010000
END:DAYLIGHT
BEGIN:STANDARD
TZOFFSETFROM:+0200
TZOFFSETTO:+0100
TZNAME:CET
DTSTART:20271031T010000
END:STANDARD
END:VTIMEZONE
BEGIN:VEVENT
DTSTART;TZID=Europe/Berlin:20260427T190000
DTEND;TZID=Europe/Berlin:20260427T210000
DTSTAMP:20260420T072945
CREATED:20241229T164454Z
LAST-MODIFIED:20260110T173604Z
UID:1196-1777316400-1777323600@foto-club-koblenz.com
SUMMARY:Clubabend FCKo
DESCRIPTION:
URL:https://foto-club-koblenz.com/event/clubabend-fcko-19
LOCATION:Barmenia Gothaer\, In den Wiesen 52\, 56070 Koblenz
END:VEVENT
BEGIN:VEVENT
DTSTART;TZID=Europe/Berlin:20260511T190000
DTEND;TZID=Europe/Berlin:20260511T210000
DTSTAMP:20260420T072945
CREATED:20241229T164413Z
LAST-MODIFIED:20260110T173953Z
UID:1194-1778526000-1778533200@foto-club-koblenz.com
SUMMARY:Clubabend FCKo
DESCRIPTION:
URL:https://foto-club-koblenz.com/event/clubabend-fcko-18
LOCATION:Barmenia Gothaer\, In den Wiesen 52\, 56070 Koblenz
END:VEVENT
BEGIN:VEVENT
DTSTART;TZID=Europe/Berlin:20260525T190000
DTEND;TZID=Europe/Berlin:20260525T210000
DTSTAMP:20260420T072945
CREATED:20231213T195122Z
LAST-MODIFIED:20260110T180230Z
UID:335-1779735600-1779742800@foto-club-koblenz.com
SUMMARY:Clubabend fällt wegen Pfingsten aus!
DESCRIPTION:
URL:https://foto-club-koblenz.com/event/clubabend-fcko-3
END:VEVENT
BEGIN:VEVENT
DTSTART;TZID=Europe/Berlin:20260608T190000
DTEND;TZID=Europe/Berlin:20260608T210000
DTSTAMP:20260420T072945
CREATED:20241229T164239Z
LAST-MODIFIED:20260110T174143Z
UID:1190-1780945200-1780952400@foto-club-koblenz.com
SUMMARY:Clubabend FCKo
DESCRIPTION:
URL:https://foto-club-koblenz.com/event/clubabend-fcko-16
LOCATION:Barmenia Gothaer\, In den Wiesen 52\, 56070 Koblenz
END:VEVENT
BEGIN:VEVENT
DTSTART;TZID=Europe/Berlin:20260622T190000
DTEND;TZID=Europe/Berlin:20260622T210000
DTSTAMP:20260420T072945
CREATED:20241229T164029Z
LAST-MODIFIED:20260110T174339Z
UID:1188-1782154800-1782162000@foto-club-koblenz.com
SUMMARY:Clubabend FCKo
DESCRIPTION:
URL:https://foto-club-koblenz.com/event/clubabend-fcko-15
LOCATION:Barmenia Gothaer\, In den Wiesen 52\, 56070 Koblenz
END:VEVENT
BEGIN:VEVENT
DTSTART;TZID=Europe/Berlin:20260713T190000
DTEND;TZID=Europe/Berlin:20260713T210000
DTSTAMP:20260420T072945
CREATED:20240101T192553Z
LAST-MODIFIED:20260110T181600Z
UID:447-1783969200-1783976400@foto-club-koblenz.com
SUMMARY:Clubabend FCko
DESCRIPTION:
URL:https://foto-club-koblenz.com/event/clubabend-fcko
LOCATION:Barmenia Gothaer\, In den Wiesen 52\, 56070 Koblenz
END:VEVENT
BEGIN:VEVENT
DTSTART;TZID=Europe/Berlin:20260727T190000
DTEND;TZID=Europe/Berlin:20260727T210000
DTSTAMP:20260420T072945
CREATED:20241229T163924Z
LAST-MODIFIED:20260110T175232Z
UID:1186-1785178800-1785186000@foto-club-koblenz.com
SUMMARY:Clubabend FCKo
DESCRIPTION:
URL:https://foto-club-koblenz.com/event/clubabend-fcko-11
LOCATION:Barmenia Gothaer\, In den Wiesen 52\, 56070 Koblenz
END:VEVENT
BEGIN:VEVENT
DTSTART;TZID=Europe/Berlin:20260810T190000
DTEND;TZID=Europe/Berlin:20260810T210000
DTSTAMP:20260420T072945
CREATED:20241229T163824Z
LAST-MODIFIED:20260110T175441Z
UID:1184-1786388400-1786395600@foto-club-koblenz.com
SUMMARY:Clubabend FCKo
DESCRIPTION:
URL:https://foto-club-koblenz.com/event/clubabend-fcko-10
LOCATION:Barmenia Gothaer\, In den Wiesen 52\, 56070 Koblenz
END:VEVENT
BEGIN:VEVENT
DTSTART;TZID=Europe/Berlin:20260824T190000
DTEND;TZID=Europe/Berlin:20260824T210000
DTSTAMP:20260420T072945
CREATED:20241229T163733Z
LAST-MODIFIED:20260110T175619Z
UID:1182-1787598000-1787605200@foto-club-koblenz.com
SUMMARY:Clubabend FCKo
DESCRIPTION:
URL:https://foto-club-koblenz.com/event/clubabend-fcko-5
LOCATION:Barmenia Gothaer\, In den Wiesen 52\, 56070 Koblenz
END:VEVENT
BEGIN:VEVENT
DTSTART;TZID=Europe/Berlin:20260914T190000
DTEND;TZID=Europe/Berlin:20260914T210000
DTSTAMP:20260420T072945
CREATED:20231213T181936Z
LAST-MODIFIED:20260110T175714Z
UID:331-1789412400-1789419600@foto-club-koblenz.com
SUMMARY:Clubabend FCKo
DESCRIPTION:
URL:https://foto-club-koblenz.com/event/clubabend-fcko-2
LOCATION:Barmenia Gothaer\, In den Wiesen 52\, 56070 Koblenz
END:VEVENT
BEGIN:VEVENT
DTSTART;TZID=Europe/Berlin:20260928T190000
DTEND;TZID=Europe/Berlin:20260928T210000
DTSTAMP:20260420T072945
CREATED:20241229T164322Z
LAST-MODIFIED:20260110T180312Z
UID:1192-1790622000-1790629200@foto-club-koblenz.com
SUMMARY:Clubabend FCKo
DESCRIPTION:
URL:https://foto-club-koblenz.com/event/clubabend-fcko-17
LOCATION:Barmenia Gothaer\, In den Wiesen 52\, 56070 Koblenz
END:VEVENT
BEGIN:VEVENT
DTSTART;TZID=Europe/Berlin:20261012T190000
DTEND;TZID=Europe/Berlin:20261012T210000
DTSTAMP:20260420T072945
CREATED:20240130T094749Z
LAST-MODIFIED:20260110T180409Z
UID:585-1791831600-1791838800@foto-club-koblenz.com
SUMMARY:Clubabend FCKo
DESCRIPTION:
URL:https://foto-club-koblenz.com/event/clubabend-fcko-13
LOCATION:Barmenia Gothaer\, In den Wiesen 52\, 56070 Koblenz
END:VEVENT
BEGIN:VEVENT
DTSTART;TZID=Europe/Berlin:20261026T190000
DTEND;TZID=Europe/Berlin:20261026T210000
DTSTAMP:20260420T072945
CREATED:20240101T193201Z
LAST-MODIFIED:20260110T180528Z
UID:457-1793041200-1793048400@foto-club-koblenz.com
SUMMARY:Clubabend FCKo
DESCRIPTION:
URL:https://foto-club-koblenz.com/event/clubabend-fcko-9
LOCATION:Barmenia Gothaer\, In den Wiesen 52\, 56070 Koblenz
END:VEVENT
BEGIN:VEVENT
DTSTART;TZID=Europe/Berlin:20261109T190000
DTEND;TZID=Europe/Berlin:20261109T210000
DTSTAMP:20260420T072945
CREATED:20240101T193121Z
LAST-MODIFIED:20260110T180659Z
UID:455-1794250800-1794258000@foto-club-koblenz.com
SUMMARY:Clubabend FCKo
DESCRIPTION:
URL:https://foto-club-koblenz.com/event/clubabend-fcko-8
LOCATION:Barmenia Gothaer\, In den Wiesen 52\, 56070 Koblenz
END:VEVENT
BEGIN:VEVENT
DTSTART;TZID=Europe/Berlin:20261123T190000
DTEND;TZID=Europe/Berlin:20261123T210000
DTSTAMP:20260420T072945
CREATED:20240101T192918Z
LAST-MODIFIED:20260110T180750Z
UID:453-1795460400-1795467600@foto-club-koblenz.com
SUMMARY:Clubabend FCKo
DESCRIPTION:
URL:https://foto-club-koblenz.com/event/clubabend-fcko-7
LOCATION:Barmenia Gothaer\, In den Wiesen 52\, 56070 Koblenz
END:VEVENT
BEGIN:VEVENT
DTSTART;TZID=Europe/Berlin:20261214T190000
DTEND;TZID=Europe/Berlin:20261214T210000
DTSTAMP:20260420T072945
CREATED:20240101T192829Z
LAST-MODIFIED:20260110T181222Z
UID:451-1797274800-1797282000@foto-club-koblenz.com
SUMMARY:Clubabend FCKo
DESCRIPTION:
URL:https://foto-club-koblenz.com/event/clubabend-fcko-6
LOCATION:Barmenia Gothaer\, In den Wiesen 52\, 56070 Koblenz
END:VEVENT
END:VCALENDAR