BEGIN:VCALENDAR
VERSION:2.0
PRODID:-//Foto-Club Koblenz - ECPv6.15.20//NONSGML v1.0//EN
CALSCALE:GREGORIAN
METHOD:PUBLISH
X-WR-CALNAME:Foto-Club Koblenz
X-ORIGINAL-URL:https://foto-club-koblenz.com
X-WR-CALDESC:Veranstaltungen für Foto-Club Koblenz
REFRESH-INTERVAL;VALUE=DURATION:PT1H
X-Robots-Tag:noindex
X-PUBLISHED-TTL:PT1H
BEGIN:VTIMEZONE
TZID:Europe/Berlin
BEGIN:DAYLIGHT
TZOFFSETFROM:+0100
TZOFFSETTO:+0200
TZNAME:CEST
DTSTART:20250330T010000
END:DAYLIGHT
BEGIN:STANDARD
TZOFFSETFROM:+0200
TZOFFSETTO:+0100
TZNAME:CET
DTSTART:20251026T010000
END:STANDARD
BEGIN:DAYLIGHT
TZOFFSETFROM:+0100
TZOFFSETTO:+0200
TZNAME:CEST
DTSTART:20260329T010000
END:DAYLIGHT
BEGIN:STANDARD
TZOFFSETFROM:+0200
TZOFFSETTO:+0100
TZNAME:CET
DTSTART:20261025T010000
END:STANDARD
BEGIN:DAYLIGHT
TZOFFSETFROM:+0100
TZOFFSETTO:+0200
TZNAME:CEST
DTSTART:20270328T010000
END:DAYLIGHT
BEGIN:STANDARD
TZOFFSETFROM:+0200
TZOFFSETTO:+0100
TZNAME:CET
DTSTART:20271031T010000
END:STANDARD
END:VTIMEZONE
BEGIN:VEVENT
DTSTART;TZID=Europe/Berlin:20260309T190000
DTEND;TZID=Europe/Berlin:20260309T210000
DTSTAMP:20260420T092530
CREATED:20241229T164859Z
LAST-MODIFIED:20260110T173304Z
UID:1202-1773082800-1773090000@foto-club-koblenz.com
SUMMARY:Clubabend FCKo
DESCRIPTION:
URL:https://foto-club-koblenz.com/event/clubabend-fcko-22
LOCATION:Barmenia Gothaer\, In den Wiesen 52\, 56070 Koblenz
END:VEVENT
BEGIN:VEVENT
DTSTART;TZID=Europe/Berlin:20260323T190000
DTEND;TZID=Europe/Berlin:20260323T210000
DTSTAMP:20260420T092530
CREATED:20231213T180226Z
LAST-MODIFIED:20260124T172441Z
UID:322-1774292400-1774299600@foto-club-koblenz.com
SUMMARY:Clubabend FCKo
DESCRIPTION:
URL:https://foto-club-koblenz.com/event/clubabend-fcko-08-01-24
LOCATION:Barmenia Gothaer\, In den Wiesen 52\, 56070 Koblenz
END:VEVENT
END:VCALENDAR